BEGIN:VCALENDAR
VERSION:2.0
PRODID:-//Gereformeerde Gemeente Veen - ECPv6.15.20//NONSGML v1.0//EN
CALSCALE:GREGORIAN
METHOD:PUBLISH
X-WR-CALNAME:Gereformeerde Gemeente Veen
X-ORIGINAL-URL:https://gergemveen.nl
X-WR-CALDESC:Evenementen voor Gereformeerde Gemeente Veen
REFRESH-INTERVAL;VALUE=DURATION:PT1H
X-Robots-Tag:noindex
X-PUBLISHED-TTL:PT1H
BEGIN:VTIMEZONE
TZID:UTC
BEGIN:STANDARD
TZOFFSETFROM:+0000
TZOFFSETTO:+0000
TZNAME:UTC
DTSTART:20230101T000000
END:STANDARD
END:VTIMEZONE
BEGIN:VEVENT
DTSTART;TZID=UTC:20251030T180000
DTEND;TZID=UTC:20251030T213000
DTSTAMP:20260422T223526
CREATED:20251020T190604Z
LAST-MODIFIED:20251020T190604Z
UID:10000646-1761847200-1761859800@gergemveen.nl
SUMMARY:-12 Jeugdvereniging "Zoek uw Schepper"
DESCRIPTION:
URL:https://gergemveen.nl/event/12-jeugdvereniging-zoek-uw-schepper/2025-10-30/
LOCATION:Kamer 1 – Begane grond – max. 70 mensen\, street no\, city\, state\, 140140\, India
END:VEVENT
BEGIN:VEVENT
DTSTART;TZID=UTC:20251027T190000
DTEND;TZID=UTC:20251027T210000
DTSTAMP:20260422T223526
CREATED:20250909T061639Z
LAST-MODIFIED:20250909T065321Z
UID:10000594-1761591600-1761598800@gergemveen.nl
SUMMARY:Catechisatieavonden seizoen 2025/2026
DESCRIPTION:
URL:https://gergemveen.nl/event/catechisatieavonden-2025/2025-10-27/
LOCATION:Kamer 3 – Eerste verdieping – max. 30 mensen
END:VEVENT
BEGIN:VEVENT
DTSTART;TZID=UTC:20251013T190000
DTEND;TZID=UTC:20251013T210000
DTSTAMP:20260422T223526
CREATED:20250909T061639Z
LAST-MODIFIED:20250909T065321Z
UID:10000593-1760382000-1760389200@gergemveen.nl
SUMMARY:Catechisatieavonden seizoen 2025/2026
DESCRIPTION:
URL:https://gergemveen.nl/event/catechisatieavonden-2025/2025-10-13/
LOCATION:Kamer 3 – Eerste verdieping – max. 30 mensen
END:VEVENT
BEGIN:VEVENT
DTSTART;TZID=UTC:20251006T190000
DTEND;TZID=UTC:20251006T210000
DTSTAMP:20260422T223526
CREATED:20250909T061639Z
LAST-MODIFIED:20250909T065321Z
UID:10000592-1759777200-1759784400@gergemveen.nl
SUMMARY:Catechisatieavonden seizoen 2025/2026
DESCRIPTION:
URL:https://gergemveen.nl/event/catechisatieavonden-2025/2025-10-06/
LOCATION:Kamer 3 – Eerste verdieping – max. 30 mensen
END:VEVENT
BEGIN:VEVENT
DTSTART;TZID=UTC:20250929T190000
DTEND;TZID=UTC:20250929T210000
DTSTAMP:20260422T223526
CREATED:20250909T061639Z
LAST-MODIFIED:20250909T065321Z
UID:10000591-1759172400-1759179600@gergemveen.nl
SUMMARY:Catechisatieavonden seizoen 2025/2026
DESCRIPTION:
URL:https://gergemveen.nl/event/catechisatieavonden-2025/2025-09-29/
LOCATION:Kamer 3 – Eerste verdieping – max. 30 mensen
END:VEVENT
BEGIN:VEVENT
DTSTART;TZID=UTC:20250327T183000
DTEND;TZID=UTC:20250327T203000
DTSTAMP:20260422T223526
CREATED:20250107T193214Z
LAST-MODIFIED:20250107T193214Z
UID:10000476-1743100200-1743107400@gergemveen.nl
SUMMARY:-12 vereniging "Zoek uw Schepper"
DESCRIPTION:
URL:https://gergemveen.nl/event/12-vereniging-zoek-uw-schepper-12/
LOCATION:Kamer 3 – Eerste verdieping – max. 30 mensen
END:VEVENT
BEGIN:VEVENT
DTSTART;TZID=UTC:20250313T183000
DTEND;TZID=UTC:20250313T203000
DTSTAMP:20260422T223526
CREATED:20250107T193033Z
LAST-MODIFIED:20250107T193033Z
UID:10000475-1741890600-1741897800@gergemveen.nl
SUMMARY:-12 vereniging "Zoek uw Schepper"
DESCRIPTION:
URL:https://gergemveen.nl/event/12-vereniging-zoek-uw-schepper-11/
LOCATION:Kamer 3 – Eerste verdieping – max. 30 mensen
END:VEVENT
BEGIN:VEVENT
DTSTART;TZID=UTC:20250227T183000
DTEND;TZID=UTC:20250227T203000
DTSTAMP:20260422T223526
CREATED:20250107T192900Z
LAST-MODIFIED:20250107T192900Z
UID:10000474-1740681000-1740688200@gergemveen.nl
SUMMARY:-12 vereniging "Zoek uw Schepper"
DESCRIPTION:
URL:https://gergemveen.nl/event/12-vereniging-zoek-uw-schepper-10/
LOCATION:Kamer 3 – Eerste verdieping – max. 30 mensen
END:VEVENT
BEGIN:VEVENT
DTSTART;TZID=UTC:20250213T183000
DTEND;TZID=UTC:20250213T203000
DTSTAMP:20260422T223526
CREATED:20250107T192555Z
LAST-MODIFIED:20250107T192555Z
UID:10000473-1739471400-1739478600@gergemveen.nl
SUMMARY:-12 vereniging "Zoek uw Schepper"
DESCRIPTION:
URL:https://gergemveen.nl/event/12-vereniging-zoek-uw-schepper-9/
LOCATION:Kamer 3 – Eerste verdieping – max. 30 mensen
END:VEVENT
BEGIN:VEVENT
DTSTART;TZID=UTC:20250116T183000
DTEND;TZID=UTC:20250116T203000
DTSTAMP:20260422T223526
CREATED:20250107T192010Z
LAST-MODIFIED:20250107T192010Z
UID:10000471-1737052200-1737059400@gergemveen.nl
SUMMARY:-12 vereniging "Zoek uw Schepper"
DESCRIPTION:
URL:https://gergemveen.nl/event/12-vereniging-zoek-uw-schepper-7/
LOCATION:Kamer 3 – Eerste verdieping – max. 30 mensen
END:VEVENT
BEGIN:VEVENT
DTSTART;TZID=UTC:20241212T183000
DTEND;TZID=UTC:20241212T203000
DTSTAMP:20260422T223526
CREATED:20240902T125636Z
LAST-MODIFIED:20240902T125636Z
UID:10000423-1734028200-1734035400@gergemveen.nl
SUMMARY:-12 vereniging "Zoek uw Schepper"
DESCRIPTION:
URL:https://gergemveen.nl/event/12-vereniging-zoek-uw-schepper-6/
LOCATION:Kamer 3 – Eerste verdieping – max. 30 mensen
END:VEVENT
BEGIN:VEVENT
DTSTART;TZID=UTC:20241128T183000
DTEND;TZID=UTC:20241128T203000
DTSTAMP:20260422T223526
CREATED:20240902T125428Z
LAST-MODIFIED:20240902T125428Z
UID:10000422-1732818600-1732825800@gergemveen.nl
SUMMARY:-12 vereniging "Zoek uw Schepper"
DESCRIPTION:
URL:https://gergemveen.nl/event/12-vereniging-zoek-uw-schepper-5/
LOCATION:Kamer 3 – Eerste verdieping – max. 30 mensen
END:VEVENT
BEGIN:VEVENT
DTSTART;TZID=UTC:20241114T183000
DTEND;TZID=UTC:20241114T203000
DTSTAMP:20260422T223526
CREATED:20240902T125247Z
LAST-MODIFIED:20240902T125247Z
UID:10000421-1731609000-1731616200@gergemveen.nl
SUMMARY:-12 vereniging "Zoek uw Schepper"
DESCRIPTION:
URL:https://gergemveen.nl/event/12-vereniging-zoek-uw-schepper-4/
LOCATION:Kamer 3 – Eerste verdieping – max. 30 mensen
END:VEVENT
BEGIN:VEVENT
DTSTART;TZID=UTC:20241030T183000
DTEND;TZID=UTC:20241030T203000
DTSTAMP:20260422T223526
CREATED:20241014T115936Z
LAST-MODIFIED:20241014T115936Z
UID:10000435-1730313000-1730320200@gergemveen.nl
SUMMARY:-12 vereniging "Zoek uw Schepper"
DESCRIPTION:
URL:https://gergemveen.nl/event/12-vereniging-zoek-uw-schepper-3/
LOCATION:Kamer 3 – Eerste verdieping – max. 30 mensen
END:VEVENT
BEGIN:VEVENT
DTSTART;TZID=UTC:20241017T183000
DTEND;TZID=UTC:20241017T203000
DTSTAMP:20260422T223526
CREATED:20240902T124431Z
LAST-MODIFIED:20240902T124431Z
UID:10000419-1729189800-1729197000@gergemveen.nl
SUMMARY:-12 vereniging "Zoek uw Schepper"
DESCRIPTION:
URL:https://gergemveen.nl/event/12-vereniging-zoek-uw-schepper-2/
LOCATION:Kamer 3 – Eerste verdieping – max. 30 mensen
END:VEVENT
BEGIN:VEVENT
DTSTART;TZID=UTC:20241003T183000
DTEND;TZID=UTC:20241003T203000
DTSTAMP:20260422T223526
CREATED:20240902T124045Z
LAST-MODIFIED:20240902T124045Z
UID:10000418-1727980200-1727987400@gergemveen.nl
SUMMARY:-12 vereniging "Zoek uw Schepper"
DESCRIPTION:
URL:https://gergemveen.nl/event/12-vereniging-zoek-uw-schepper/2024-10-03/2/
LOCATION:Kamer 3 – Eerste verdieping – max. 30 mensen
END:VEVENT
BEGIN:VEVENT
DTSTART;TZID=UTC:20241003T080000
DTEND;TZID=UTC:20241003T170000
DTSTAMP:20260422T223526
CREATED:20240902T124045Z
LAST-MODIFIED:20240902T124045Z
UID:10000417-1727942400-1727974800@gergemveen.nl
SUMMARY:-12 vereniging "Zoek uw Schepper"
DESCRIPTION:
URL:https://gergemveen.nl/event/12-vereniging-zoek-uw-schepper/2024-10-03/1/
LOCATION:Kamer 3 – Eerste verdieping – max. 30 mensen
END:VEVENT
END:VCALENDAR